BEGIN:VCALENDAR
VERSION:2.0
PRODID:-//Andy Emler - ECPv6.15.17.1//NONSGML v1.0//EN
CALSCALE:GREGORIAN
METHOD:PUBLISH
X-ORIGINAL-URL:https://www.andyemler.eu
X-WR-CALDESC:Évènements pour Andy Emler
REFRESH-INTERVAL;VALUE=DURATION:PT1H
X-Robots-Tag:noindex
X-PUBLISHED-TTL:PT1H
BEGIN:VTIMEZONE
TZID:UTC
BEGIN:STANDARD
TZOFFSETFROM:+0000
TZOFFSETTO:+0000
TZNAME:UTC
DTSTART:20210101T000000
END:STANDARD
END:VTIMEZONE
BEGIN:VEVENT
DTSTART;TZID=UTC:20220507T080000
DTEND;TZID=UTC:20220507T170000
DTSTAMP:20260421T121938
CREATED:20211207T134751Z
LAST-MODIFIED:20211207T134751Z
UID:7718-1651910400-1651942800@www.andyemler.eu
SUMMARY:Trio ETE à la Jazz Station à Bruxelles
DESCRIPTION:
URL:https://www.andyemler.eu/evenements/trio-ete-a-la-jazz-station-a-bruxelles/
LOCATION:Jazz Station\, Chau. de Louvain 193/A\,\, Bruxelles\, 1210\, Belgique
CATEGORIES:Trio ETE
ATTACH;FMTTYPE=image/jpeg:https://www.andyemler.eu/wp-content/uploads/2020/11/trioete.jpg
END:VEVENT
BEGIN:VEVENT
DTSTART;TZID=UTC:20220511T190000
DTEND;TZID=UTC:20220511T200000
DTSTAMP:20260421T121938
CREATED:20220505T165631Z
LAST-MODIFIED:20220506T090748Z
UID:8243-1652295600-1652299200@www.andyemler.eu
SUMMARY:Carte Blanche de Thomas de Pourquery invite Andy Emler à TSF Jazz
DESCRIPTION:
URL:https://www.andyemler.eu/evenements/carte-blanche-de-thomas-de-pourquery-invite-andy-emler-a-tsf-jazz/
LOCATION:TSF Jazz\, Paris\, France
CATEGORIES:Andy Emler,Chauve Power,Guest
ATTACH;FMTTYPE=image/jpeg:https://www.andyemler.eu/wp-content/uploads/2022/05/My-project-41.jpg
END:VEVENT
BEGIN:VEVENT
DTSTART;TZID=UTC:20220514T170000
DTEND;TZID=UTC:20220514T190000
DTSTAMP:20260421T121938
CREATED:20220505T164731Z
LAST-MODIFIED:20220506T091731Z
UID:8238-1652547600-1652554800@www.andyemler.eu
SUMMARY:Duo orgue Grand Siècle au Pays de l'isle de Rié
DESCRIPTION:Evènement proposé dans le cadre du « Grand Siècle au Pays de l’isle de Rié ».\n\n\nBallades et grooves s’entrecroisent dans les sonorités de l’orgue d’Andy Emler accompagnées des clarinettes\, saxophones et autre cornemuse de Laurent Dehors. \nRéservations et renseignements auprès du service culturel de Saint Gilles Croix de Vie. \n\n\nLIEU DE L’ÉVÈNEMENT\n\nEglise Sainte Croix\nPlace Guy Kergoustin\n85800\nSAINT-GILLES-CROIX-DE-VIE
URL:https://www.andyemler.eu/evenements/duo-orgue-grand-siecle-au-pays-de-lisle-de-rie/
LOCATION:Eglise Sainte Croix\, Place Guy Kergoustin\, SAINT-GILLES-CROIX-DE-VIE\, 85800\, France
CATEGORIES:Andy Emler,Duo,Duo Orgue
ATTACH;FMTTYPE=image/jpeg:https://www.andyemler.eu/wp-content/uploads/2021/04/dehorsdanslesnuages.jpg
END:VEVENT
BEGIN:VEVENT
DTSTART;TZID=UTC:20220521T203000
DTEND;TZID=UTC:20220521T220000
DTSTAMP:20260421T121938
CREATED:20211207T134851Z
LAST-MODIFIED:20220518T144013Z
UID:7721-1653165000-1653170400@www.andyemler.eu
SUMMARY:Duo orgue Andy Emler\, batterie Sylvain Darrifourcq au Triton
DESCRIPTION:
URL:https://www.andyemler.eu/evenements/duo-orgue-triton/
LOCATION:Le Triton\, 11 bis\, rue du Coq Français\, Les Lilas\, 93260\, France
CATEGORIES:Duo Orgue
ATTACH;FMTTYPE=image/jpeg:https://www.andyemler.eu/wp-content/uploads/2021/12/duoorguebatterie_andyemler_sylvain.jpg
END:VEVENT
END:VCALENDAR