BEGIN:VCALENDAR
VERSION:2.0
PRODID:-//Andy Emler - ECPv6.15.17.1//NONSGML v1.0//EN
CALSCALE:GREGORIAN
METHOD:PUBLISH
X-ORIGINAL-URL:https://www.andyemler.eu
X-WR-CALDESC:Évènements pour Andy Emler
REFRESH-INTERVAL;VALUE=DURATION:PT1H
X-Robots-Tag:noindex
X-PUBLISHED-TTL:PT1H
BEGIN:VTIMEZONE
TZID:UTC
BEGIN:STANDARD
TZOFFSETFROM:+0000
TZOFFSETTO:+0000
TZNAME:UTC
DTSTART:20210101T000000
END:STANDARD
END:VTIMEZONE
BEGIN:VEVENT
DTSTART;VALUE=DATE:20220119
DTEND;VALUE=DATE:20220121
DTSTAMP:20260421T182406
CREATED:20211207T131701Z
LAST-MODIFIED:20211207T131701Z
UID:7676-1642550400-1642723199@www.andyemler.eu
SUMMARY:Bis de Nantes
DESCRIPTION:
URL:https://www.andyemler.eu/evenements/bis-de-nantes/
LOCATION:La Cité Nantes Events Center\, 5 rue de Valmy\, Nantes\, 44000\, France
CATEGORIES:La Compagnie aime l'air
ATTACH;FMTTYPE=image/jpeg:https://www.andyemler.eu/wp-content/uploads/2021/12/261228448_5296602093700075_1934108704390044850_n.jpg
END:VEVENT
BEGIN:VEVENT
DTSTART;TZID=UTC:20220127T203000
DTEND;TZID=UTC:20220127T220000
DTSTAMP:20260421T182406
CREATED:20211207T132108Z
LAST-MODIFIED:20211207T132108Z
UID:7681-1643315400-1643320800@www.andyemler.eu
SUMMARY:Jazz de Glace avec Andy Emler
DESCRIPTION:Période d’ouverture\n  \nJeudi 27 janvier 2022 de 20h30 à 22h. \n  \nDescription\n  \nAndy Emler\, compositeur\, pianiste\, catalyseur d’enthousiasmes\, initiateur de rencontres\, arrangeur\, passionné par l’improvisation\, est un homme d’inventions. \nAprès les classes d’écritures\, harmonie\, contrepoint\, fugue et les bals du samedi soir (rock\, pop)\, il se lance dans de multiples expériences avec des musiciens comme : Antoine Hervé\, Michel Portal\, François Jeanneau\, Woody Shaw\, Trilok Gurtu…\nIl créé son laboratoire personnel\, le MegaOctet en 1989 avec huit des “plus flambeurs improvisateurs” de la génération des années 80 qui obtient le Django d’Or de la meilleure formation de jazz français 1992. Entre 1994 et 1999\, il devient co-directeur de la Scène Marnaise de Création Musicale et partage l’aventure collective du POM\, big band à géométrie variable.\nPar ailleurs il est le compositeur de multiples commandes d’écriture pour tous les formats et formules d’orchestres professionnels\, ou mêlant musiciens professionnels et amateurs. Trop souvent « étiqueté » musicien de jazz\, Andy Emler compose aussi bien pour des orchestres de musique contemporaine que des orchestres symphoniques\, avec la même générosité\, candeur et lyrisme. Andy Emler est un musicien sans frontière\, ayant soif de rencontres et d’échanges ! \nAndy Emler : Piano\nRichard Foy et Sébastien Anthonioz Blanc : Saxophones\nGuillaume Lavallard : Trompette\nYves Robert : Trombone\nRémi Varaine\, Jean-Claude Exertier\, Pierre Michel : Guitares\nBenoît Vicarini : guitare basse\nJean-Pierre Comparato : Contrebasse\nPierre Desvignes : Batterie\nThierry Girault : Clavier\nJean-François Bertoli : Piano\nJérémy Maxit : Percussions \n  \nTarifs\n  \nTarifs: 12€ / 8€ / 4€ (Billetterie au Conservatoire d’Annecy).
URL:https://www.andyemler.eu/evenements/jazz-de-glace-avec-andy-emler/
LOCATION:Salle Pierre Lamy\, 12 rue de la République\, Annecy\, 74000\, France
CATEGORIES:Andy Emler
ATTACH;FMTTYPE=image/jpeg:https://www.andyemler.eu/wp-content/uploads/2021/12/241179113_974149506476456_2075201894610966140_n.jpg
END:VEVENT
BEGIN:VEVENT
DTSTART;VALUE=DATE:20220128
DTEND;VALUE=DATE:20220129
DTSTAMP:20260421T182406
CREATED:20211207T132317Z
LAST-MODIFIED:20220125T103424Z
UID:7686-1643328000-1643414399@www.andyemler.eu
SUMMARY:Trio ETE au Periscope
DESCRIPTION:
URL:https://www.andyemler.eu/evenements/trio-ete-au-periscope/
LOCATION:Le Periscope\, 13 rue Delandine\, Lyon\, 69002\, France
CATEGORIES:Trio ETE
ATTACH;FMTTYPE=image/jpeg:https://www.andyemler.eu/wp-content/uploads/2022/01/trioete_andyemler_lyon_persicope.jpg
END:VEVENT
BEGIN:VEVENT
DTSTART;VALUE=DATE:20220129
DTEND;VALUE=DATE:20220130
DTSTAMP:20260421T182406
CREATED:20211207T132515Z
LAST-MODIFIED:20220125T103542Z
UID:7689-1643414400-1643500799@www.andyemler.eu
SUMMARY:Trio ETE au Chorus Lausanne
DESCRIPTION:
URL:https://www.andyemler.eu/evenements/trio-ete-au-chorus-lausanne/
LOCATION:Chorus\, Av. de Mon-Repos 3\, Lausanne\, 1005\, Suisse
CATEGORIES:Trio ETE
ATTACH;FMTTYPE=image/jpeg:https://www.andyemler.eu/wp-content/uploads/2020/09/WEB_7695.jpg
END:VEVENT
BEGIN:VEVENT
DTSTART;VALUE=DATE:20220131
DTEND;VALUE=DATE:20220201
DTSTAMP:20260421T182406
CREATED:20211207T133235Z
LAST-MODIFIED:20211207T133235Z
UID:7697-1643587200-1643673599@www.andyemler.eu
SUMMARY:Soirée PeeWee! Label
DESCRIPTION:
URL:https://www.andyemler.eu/evenements/soiree-peewee-label/
LOCATION:Théâtre des Nouveautés\, 24 boulevard Poissonnière\, Paris\, 75009\, France
CATEGORIES:Andy Emler
ATTACH;FMTTYPE=image/jpeg:https://www.andyemler.eu/wp-content/uploads/2021/12/PW-concert-31janv-Reseaux-2021_11_292.jpg
END:VEVENT
END:VCALENDAR