BEGIN:VCALENDAR
VERSION:2.0
PRODID:-//Andy Emler - ECPv6.15.17.1//NONSGML v1.0//EN
CALSCALE:GREGORIAN
METHOD:PUBLISH
X-ORIGINAL-URL:https://www.andyemler.eu
X-WR-CALDESC:Évènements pour Andy Emler
REFRESH-INTERVAL;VALUE=DURATION:PT1H
X-Robots-Tag:noindex
X-PUBLISHED-TTL:PT1H
BEGIN:VTIMEZONE
TZID:UTC
BEGIN:STANDARD
TZOFFSETFROM:+0000
TZOFFSETTO:+0000
TZNAME:UTC
DTSTART:20200101T000000
END:STANDARD
END:VTIMEZONE
BEGIN:VEVENT
DTSTART;TZID=UTC:20211205T170000
DTEND;TZID=UTC:20211205T193000
DTSTAMP:20260421T192747
CREATED:20210924T135417Z
LAST-MODIFIED:20210924T135417Z
UID:7522-1638723600-1638732600@www.andyemler.eu
SUMMARY:ANDY EMLER\, BALLAKÉ SISSOKO Duo
DESCRIPTION:ANDY EMLER\, piano\, BALLAKÉ SISSOKO\, kora\nCe concert est dédié à la mémoire de notre ami photographe\, Francis Pearron. \nDeux maîtres de l’improvisation se donnent rendez-vous pour un moment d’échange exceptionnel. L’un\, BALLAKÉ SISSOKO\, dix doigts pour vingt et une cordes de kora – sorte de harpe-luth d’origine mandingue – dont il en est l’un des plus grands interprètes\, est issu de la tradition d’Afrique de l’Ouest ; il ne cesse de multiplier les rencontres musicales avec des instrumentistes et compositeurs internationaux. L’autre\, ANDY EMLER\, compositeur\, pianiste\, catalyseur d’enthousiasmes\, initiateur de rencontres\, arrangeur\, passionné par l’improvisation\, est un homme d’inventions\, récipiendaire en 2010 d’une Victoire du Jazz. Ils se retrouvent tous deux dans le groove et la simplicité d’un instant de plaisir. Une rencontre improbable qui va nous faire découvrir combien la musique peut être vecteur d’altérité. \nMONTMORENCY à 17h00\nCollégiale Saint-Martin\n2 Rue Saint-Martin\, 95160 Montmorency\nTarif plein : 17 € – Tarif réduit : 13 €
URL:https://www.andyemler.eu/evenements/andy-emler-ballake-sissoko-duo/
LOCATION:Collégiale Saint-Martin\, 2 rue Saint-Martin\, MONTMORENCY\, 95160\, France
CATEGORIES:Duo
ATTACH;FMTTYPE=image/jpeg:https://www.andyemler.eu/wp-content/uploads/2021/09/timthumb.jpg
END:VEVENT
BEGIN:VEVENT
DTSTART;VALUE=DATE:20211218
DTEND;VALUE=DATE:20211219
DTSTAMP:20260421T192747
CREATED:20210702T095630Z
LAST-MODIFIED:20210702T095630Z
UID:7329-1639785600-1639871999@www.andyemler.eu
SUMMARY:Andy Emler MegaOctet - Le Triton
DESCRIPTION:
URL:https://www.andyemler.eu/evenements/andy-emler-megaoctet-le-triton/
LOCATION:Le Triton\, 11 bis\, rue du Coq Français\, Les Lilas\, 93260\, France
CATEGORIES:megaoctet
ATTACH;FMTTYPE=image/jpeg:https://www.andyemler.eu/wp-content/uploads/2020/11/CC25052018-DSCF2640-hd-1-scaled.jpg
END:VEVENT
END:VCALENDAR