BEGIN:VCALENDAR
VERSION:2.0
PRODID:-//Andy Emler - ECPv6.15.17.1//NONSGML v1.0//EN
CALSCALE:GREGORIAN
METHOD:PUBLISH
X-WR-CALNAME:Andy Emler
X-ORIGINAL-URL:https://www.andyemler.eu
X-WR-CALDESC:Évènements pour Andy Emler
REFRESH-INTERVAL;VALUE=DURATION:PT1H
X-Robots-Tag:noindex
X-PUBLISHED-TTL:PT1H
BEGIN:VTIMEZONE
TZID:UTC
BEGIN:STANDARD
TZOFFSETFROM:+0000
TZOFFSETTO:+0000
TZNAME:UTC
DTSTART:20200101T000000
END:STANDARD
END:VTIMEZONE
BEGIN:VEVENT
DTSTART;TZID=UTC:20211113T103000
DTEND;TZID=UTC:20211113T163000
DTSTAMP:20260421T204022
CREATED:20210924T134105Z
LAST-MODIFIED:20210924T134424Z
UID:7508-1636799400-1636821000@www.andyemler.eu
SUMMARY:STAGE D'IMPROVISATION JAZZ AVEC ANDY EMLER à Argences-en-Aubrac
DESCRIPTION:JAZZ EN AUBRAC  \n\nEn novembre\, la commune d’Argences-en-Aubrac va accueillir le parrain du jazz français … Andy Emler !\n\n\n\nLe 13 novembre aura d’abord lieu de 10h à 12h30 et de 14h à 16h30 un stage d’improvisation avec Andy Emler\, organisé par Aveyron Culture.\n\nL’inscription (20€) est obligatoire et ouverte jusqu’au 24 octobre\, auprès de Morgane Aymeric\, au 05 65 73 80 50.\n\n\n\nLe stage sera restitué en public le soir\, à la salle d’animation de Graissac\, suivi d’un concert piano solo d’Andy Emler – « My own Ravel » .\n\n\n\nAlors n’attendez plus pour vous inscrire\, les places sont limitées !
URL:https://www.andyemler.eu/evenements/stage-dimprovisation-jazz-avec-andy-emler-a-argences-en-aubrac/
CATEGORIES:Masterclass
ATTACH;FMTTYPE=image/jpeg:https://www.andyemler.eu/wp-content/uploads/2021/06/DSC_9034_1024_CAJ.jpg
END:VEVENT
BEGIN:VEVENT
DTSTART;TZID=UTC:20211113T203000
DTEND;TZID=UTC:20211113T223000
DTSTAMP:20260421T204022
CREATED:20210924T134550Z
LAST-MODIFIED:20210924T134550Z
UID:7512-1636835400-1636842600@www.andyemler.eu
SUMMARY:Concert Piano Solo à Argences-en-Aubrac
DESCRIPTION:JAZZ EN AUBRAC \n\n\n\nEn novembre\, la commune d’Argences-en-Aubrac va accueillir le parrain du jazz français … Andy Emler !\n\n\n\nLe 13 novembre aura d’abord lieu de 10h à 12h30 et de 14h à 16h30 un stage d’improvisation avec Andy Emler\, organisé par Aveyron Culture. L’inscription (20€) est obligatoire et ouverte jusqu’au 24 octobre\, auprès de Morgane Aymeric\, au 05 65 73 80 50.\n\n\n\nLe stage sera restitué en public le soir\, à la salle d’animation de Graissac\, suivi d’un concert piano solo d’Andy Emler – « My own Ravel » .\n\n\n\nAlors n’attendez plus pour vous inscrire\, les places sont limitées !
URL:https://www.andyemler.eu/evenements/concert-piano-solo-a-argences-en-aubrac/
LOCATION:Argences en Aubrac (12)\, Argences en Aubrac\, 12210
CATEGORIES:Piano Solo
ATTACH;FMTTYPE=image/jpeg:https://www.andyemler.eu/wp-content/uploads/2021/09/justabeginning_marchin_andyemler_1.jpg
END:VEVENT
BEGIN:VEVENT
DTSTART;TZID=UTC:20211116T203000
DTEND;TZID=UTC:20211116T220000
DTSTAMP:20260421T204022
CREATED:20210628T200438Z
LAST-MODIFIED:20210628T200444Z
UID:7264-1637094600-1637100000@www.andyemler.eu
SUMMARY:Andy Emler MegaOctet - Release Party Date
DESCRIPTION:[et_pb_section fb_built= »1″ _builder_version= »3.22″][et_pb_row _builder_version= »3.25″ background_size= »initial » background_position= »top_left » background_repeat= »repeat »][et_pb_column type= »4_4″ _builder_version= »3.25″ custom_padding= »||| » custom_padding__hover= »||| »][et_pb_text _builder_version= »4.9.7″ background_size= »initial » background_position= »top_left » background_repeat= »repeat » hover_enabled= »0″ sticky_enabled= »0″] \nQuoi de mieux qu’un concert pour fêter un nouvel album ? \nA l’occasion la sortie de l’album Just a beginning – Live\, le Andy Emler MegaOctet et le label PeeWee! investissent la scène du 360 Music Factory. \nDu groove\, des explosions de musiques et de couleurs. Andy Emler\, entouré des musiciens virtuoses qui forment l’orchestre dévoilera un répertoire sensitif et généreux. \nUne soirée d’anthologie en perspective\, en compagnie de trois invités de marque : Nguyên Lê\, Géraldine Laurent et Médéric Collignon. \nJust a beginning – Live – sortie le 15 octobre 2021\, co-production La Compagnie aime l’air et PeeWee! Label \nwww.andyemler.eu \nLa Compagnie aime l’air est conventionnée par la DRAC\, la Région Ile-de-France.  Just a beginning a été soutenu par l’ADAMI et la Sacem. \nLe Andy Emler MegaOctet est membre de la fédération des artistes pour la musique en Grands Formats. \n  \nDistribution : \n\nAndy Emler : Piano et compositions\nEric Echampard : Batterie\nClaude Tchamitchian : Contrebasse\nFrançois Verly : Percussions\nLaurent Dehors : Saxophone Ténor et clarinettes\nGuillaume Orti : Saxophone Alto\nPhilippe Sellam : Saxophone Alto\nLaurent Blondiau : Trompette\nFrançois Thuillier : Tuba\n\nInvités : \n\nNguyên Lê : Guitare électrique\nGéraldine Laurent : Saxophone Alto\nMédéric Collignon : Cornet\, voix\n\nVincent Mahey : Ingénieur du son \n[/et_pb_text][et_pb_code _builder_version= »4.9.7″ _module_preset= »default » hover_enabled= »0″ sticky_enabled= »0″]Vente de billets en ligne[/et_pb_code][/et_pb_column][/et_pb_row][/et_pb_section]
URL:https://www.andyemler.eu/evenements/andy-emler-megaoctet-release-party-date/
LOCATION:Le 360 Paris Music Factory\, 32 rue Myrha\, Paris\, 75018\, France
CATEGORIES:megaoctet
ATTACH;FMTTYPE=image/jpeg:https://www.andyemler.eu/wp-content/uploads/2020/11/CC25052018-DSCF2640-hd-1-scaled.jpg
ORGANIZER;CN="La Compagnie aime l'air":MAILTO:cieaimelair@andyemler.eu
END:VEVENT
BEGIN:VEVENT
DTSTART;TZID=UTC:20211127T200000
DTEND;TZID=UTC:20211127T230000
DTSTAMP:20260421T204022
CREATED:20210924T134943Z
LAST-MODIFIED:20210924T135015Z
UID:7514-1638043200-1638054000@www.andyemler.eu
SUMMARY:Joce Mienniel La Grande Table au Festival Jazz au Fil de l'Oise
DESCRIPTION:JOCE MIENNIEL\, flûtes\, ANDY EMLER\, orgue du Réfectoire des Moines\, FRANÇOIS SALQUE\, violoncelle\, LAURENT DERACHE accordéon\, PATRICK DERISBOURG\, chef de cuisine\n\nEngagée par Jazz au fil de l’Oise\, avec le soutien de la DRAC IDF et du Conseil départemental du Val d’Oise\, la résidence de JOCE MIENNIEL s’exercera de diverses manières sur le terrain et sur nos scènes\, avec deux concerts\, La Grande Table et Circles\, des actions pédagogiques\, des interventions… Elle s’inscrit dans notre projet de favoriser le développement des pratiques tout autant que d’éveiller à cette musique ou susciter l’engouement de nouveaux publics. \nQuatre musiciens et quelques convives privilégiés à table pour un concert gastronomique inédit. Devant leurs pianos respectifs\, le chef de cuisine de l’Abbaye de Royaumont PATRICK DERISBOURG et le compositeur\, flûtiste JOCELYN MIENNIEL s’associent pour une création en écho\, un dialogue de vagues sonores et de crépitement gustatif\, une correspondance entre la verdeur\, le toucher\, la douceur\, l’acidité\, le mélodique\, le croquant et le vibratoire… L’exécution musicale se fait en même temps que la préparation culinaire sous le regard du public\, les convives. Pour cette grande table exceptionnelle qui soufflera les 25 bougies du festival\, JOCE MIENNIEL est entouré d’un quatuor exceptionnel\, LAURENT DERACHE\, à l’accordéon\, FRANÇOIS SALQUE au violoncelle et occasion unique oblige\, ANDY EMLER\, aux commandes de l’orgue d’église du Réfectoire des Moines. Un fantastique théâtre-laboratoire parfums/sons se met en œuvre pour notre bonheur des sens. \nVisite de l’Abbaye\, Possibilité d’hébergement au sein de l’Abbaye pour les festivaliers en téléphonant au 06 37 24 90 34 : tarif de la nuitée pour deux personnes\, petit-déjeuner compris\, 129 €. \n\n\nABBAYE DE ROYAUMONT à 20h00\nAbbaye de Royaumont\n95270 Asnières-sur-Oise\nTarif unique dîner-concert : 66 €
URL:https://www.andyemler.eu/evenements/joce-mienniel-la-grande-table-au-festival-jazz-au-fil-de-loise/
LOCATION:ABBAYE DE ROYAUMONT\, Asnières-sur-Oise\, 95270\, France
CATEGORIES:Guest
ATTACH;FMTTYPE=image/png:https://www.andyemler.eu/wp-content/uploads/2021/09/Captura-de-Pantalla-2021-09-24-a-las-15.48.29.png
END:VEVENT
END:VCALENDAR