BEGIN:VCALENDAR
VERSION:2.0
PRODID:-//Andy Emler - ECPv6.15.17.1//NONSGML v1.0//EN
CALSCALE:GREGORIAN
METHOD:PUBLISH
X-WR-CALNAME:Andy Emler
X-ORIGINAL-URL:https://www.andyemler.eu
X-WR-CALDESC:Évènements pour Andy Emler
REFRESH-INTERVAL;VALUE=DURATION:PT1H
X-Robots-Tag:noindex
X-PUBLISHED-TTL:PT1H
BEGIN:VTIMEZONE
TZID:UTC
BEGIN:STANDARD
TZOFFSETFROM:+0000
TZOFFSETTO:+0000
TZNAME:UTC
DTSTART:20200101T000000
END:STANDARD
END:VTIMEZONE
BEGIN:VEVENT
DTSTART;VALUE=DATE:20210914
DTEND;VALUE=DATE:20210915
DTSTAMP:20260421T233817
CREATED:20210416T151432Z
LAST-MODIFIED:20210416T151432Z
UID:6874-1631577600-1631663999@www.andyemler.eu
SUMMARY:Orgue et voix - Andy Emler et Elise Caron
DESCRIPTION:
URL:https://www.andyemler.eu/evenements/orgue-et-voix-andy-emler-et-elise-caron-2/
LOCATION:Festival Détours de Babel\, 17 RUE BAYARD\, GRENOBLE\, 38000\, France
CATEGORIES:Duo,Duo Orgue
ATTACH;FMTTYPE=image/jpeg:https://www.andyemler.eu/wp-content/uploads/2020/02/caron-emler.jpg
ORGANIZER;CN="D%C3%A9tours de Babel":MAILTO:contact@detoursdebabel.fr
END:VEVENT
BEGIN:VEVENT
DTSTART;TZID=UTC:20210919T170000
DTEND;TZID=UTC:20210919T190000
DTSTAMP:20260421T233817
CREATED:20210416T152106Z
LAST-MODIFIED:20210907T152736Z
UID:6877-1632070800-1632078000@www.andyemler.eu
SUMMARY:Orgue et anches - Andy Emler et Laurent Dehors - Dehors dans les nuages
DESCRIPTION:
URL:https://www.andyemler.eu/evenements/orgue-et-anches-andy-emler-et-laurent-dehors-dehors-dans-les-nuages/
LOCATION:Eglise Saint-Eloi\, 2 Rue Clemenceau\, Dunkerque\, 59140
CATEGORIES:Duo,Duo Orgue
ATTACH;FMTTYPE=image/jpeg:https://www.andyemler.eu/wp-content/uploads/2021/04/dehorsdanslenuagesseptembre2021.jpg
END:VEVENT
BEGIN:VEVENT
DTSTART;VALUE=DATE:20210925
DTEND;VALUE=DATE:20210926
DTSTAMP:20260421T233817
CREATED:20210416T155938Z
LAST-MODIFIED:20210903T134724Z
UID:6885-1632528000-1632614399@www.andyemler.eu
SUMMARY:Andy Emler Megaoctet - Festival Raccord(s)
DESCRIPTION:
URL:https://www.andyemler.eu/evenements/andy-emler-megaoctet-festival-raccords/
LOCATION:La Maison de la Poésie\, 157 Rue Saint-Martin\, Paris\, 75003\, France
CATEGORIES:megaoctet
ATTACH;FMTTYPE=image/jpeg:https://www.andyemler.eu/wp-content/uploads/2021/04/banner_maisondelapoesie.jpg
END:VEVENT
END:VCALENDAR