BEGIN:VCALENDAR
VERSION:2.0
PRODID:-//Andy Emler - ECPv6.15.17.1//NONSGML v1.0//EN
CALSCALE:GREGORIAN
METHOD:PUBLISH
X-WR-CALNAME:Andy Emler
X-ORIGINAL-URL:https://www.andyemler.eu
X-WR-CALDESC:Évènements pour Andy Emler
REFRESH-INTERVAL;VALUE=DURATION:PT1H
X-Robots-Tag:noindex
X-PUBLISHED-TTL:PT1H
BEGIN:VTIMEZONE
TZID:UTC
BEGIN:STANDARD
TZOFFSETFROM:+0000
TZOFFSETTO:+0000
TZNAME:UTC
DTSTART:20200101T000000
END:STANDARD
END:VTIMEZONE
BEGIN:VEVENT
DTSTART;TZID=UTC:20210522T190000
DTEND;TZID=UTC:20210522T203000
DTSTAMP:20260422T053205
CREATED:20210517T083249Z
LAST-MODIFIED:20210517T083249Z
UID:7193-1621710000-1621715400@www.andyemler.eu
SUMMARY:Médéric Collignon / Andy Emler / Sami Pageaux-Waro - Racines au Cube
DESCRIPTION:  \nIls viennent de trois coins du Monde de la Planète Musique mais ils ont choisi de faire la même chose : manipuler les sons mus par leurs émotions afin de les disperser aux quatre vents. \nIls se greffent à leurs instruments de prédilection pour synthétiser leurs vibrations et faire jaillir le torrent d’ondes sans barrage\, sans retenue\, en faisant fi de la partition mais jamais de l’instant. \nC’est une rencontre\, un désir\, une aventure sonore\, une expérience saine et vitale\, surtout au milieu de ce désert de masques qui sera bientôt derrière nous. \nIl y a comme un besoin d’aller jouer des « sens » dans tous les « sons » à fleur de souffle et de les emmêler\, doublés d’une envie de sauter dans le vide en lâchant toute son énergie autour d’un cri au beau milieu d’un endroit inconnu. \nCette aventure des sons sera acoustique\, électrique\, cousue par les outils de la curiosité et de l’immodéré. \nJ’ai voulu faire rencontrer nos trois univers teintés de voyages entre les styles et les genres. Les racines de chacun et chacune vont se chevaucheret ainsi libérer un hydre-hymne symbole d’une vision d’un monde non pas recroquevillé sur lui-même mais augmenté d’ailes mues par le souffle du cuivre et le frottement des cordes… \n« Le monde marche ! Pourquoi ne tournerait-il pas ? » A.Rimbaud \nMédéric Collignon cornet \nAndy Emler piano \nSami Pageaux-Waro kora chromatique\, percussions
URL:https://www.andyemler.eu/evenements/mederic-collignon-andy-emler-sami-pageaux-waro-racines-au-cube/
LOCATION:Le Triton\, 11 bis\, rue du Coq Français\, Les Lilas\, 93260\, France
ATTACH;FMTTYPE=image/jpeg:https://www.andyemler.eu/wp-content/uploads/2021/05/vignette-andy-et-mederic-de....jpg
END:VEVENT
BEGIN:VEVENT
DTSTART;TZID=UTC:20210529T204500
DTEND;TZID=UTC:20210529T223000
DTSTAMP:20260422T053205
CREATED:20210416T131524Z
LAST-MODIFIED:20210416T131524Z
UID:6826-1622321100-1622327400@www.andyemler.eu
SUMMARY:Duo Orgue et danse - Andy Emler et Elodie Sicard
DESCRIPTION:Incroyable\, en ces temps chaotiques : Les grandes orgues et la danse ? Ensemble au Comptoir ? Hé oui tout est possible à la Halle Roublot ! \n\n\n\n\n\n\n\n\n\n\n\n\n\n\n\n\n\n\n\n\nDiffusion en livestream sur Twitch\nou sur Facebook\net en public sous réserve de la réouverture des salles\n\n\n\n\n\nAvec\nElodie SICARD (chorégraphie – danse)\nAndy EMLER (grandes orgues) \nCrédit photo : Marion Duhamel
URL:https://www.andyemler.eu/evenements/duo-orgue-et-danse-andy-emler-et-elodie-sicard/
LOCATION:Le Comptoir\, 95 rue Roublot\, Fontenay-sous-bois\, 94120\, France
CATEGORIES:Duo,Duo Orgue
ATTACH;FMTTYPE=image/jpeg:https://www.andyemler.eu/wp-content/uploads/2019/09/AndyEmler_©marion-duhamel.jpg
END:VEVENT
END:VCALENDAR