BEGIN:VCALENDAR
VERSION:2.0
PRODID:-//Andy Emler - ECPv6.15.17.1//NONSGML v1.0//EN
CALSCALE:GREGORIAN
METHOD:PUBLISH
X-ORIGINAL-URL:https://www.andyemler.eu
X-WR-CALDESC:Évènements pour Andy Emler
REFRESH-INTERVAL;VALUE=DURATION:PT1H
X-Robots-Tag:noindex
X-PUBLISHED-TTL:PT1H
BEGIN:VTIMEZONE
TZID:UTC
BEGIN:STANDARD
TZOFFSETFROM:+0000
TZOFFSETTO:+0000
TZNAME:UTC
DTSTART:20190101T000000
END:STANDARD
END:VTIMEZONE
BEGIN:VEVENT
DTSTART;TZID=UTC:20201107T200000
DTEND;TZID=UTC:20201107T230000
DTSTAMP:20260424T141330
CREATED:20200825T230522Z
LAST-MODIFIED:20201202T215413Z
UID:6452-1604779200-1604790000@www.andyemler.eu
SUMMARY:ANNULÉ - Andy Emler Solo
DESCRIPTION:
URL:https://www.andyemler.eu/evenements/andy-emler-solo/
LOCATION:Argences en Aubrac (12)\, Argences en Aubrac\, 12210
CATEGORIES:Piano Solo
ATTACH;FMTTYPE=image/jpeg:https://www.andyemler.eu/wp-content/uploads/2020/07/no-solo-background.jpg
END:VEVENT
BEGIN:VEVENT
DTSTART;TZID=UTC:20201120T200000
DTEND;TZID=UTC:20201120T230000
DTSTAMP:20260424T141330
CREATED:20200825T230925Z
LAST-MODIFIED:20201202T215359Z
UID:6455-1605902400-1605913200@www.andyemler.eu
SUMMARY:ANNULÉ - Andy Emler MegaOctet - Just a beginning
DESCRIPTION:
URL:https://www.andyemler.eu/evenements/andy-emler-megaoctet-just-a-beginning-a-9/
LOCATION:Festival Jazzdor\, Strasbourg\, 67000\, France
CATEGORIES:megaoctet
ATTACH;FMTTYPE=image/png:https://www.andyemler.eu/wp-content/uploads/2020/08/Captura-de-Pantalla-2020-08-26-a-las-1.07.27.png
END:VEVENT
BEGIN:VEVENT
DTSTART;TZID=UTC:20201129T170000
DTEND;TZID=UTC:20201129T190000
DTSTAMP:20260424T141330
CREATED:20200825T231244Z
LAST-MODIFIED:20201202T215346Z
UID:6461-1606669200-1606676400@www.andyemler.eu
SUMMARY:ANNULÉ - Duo Andy Emler et Ballaké Sissoko
DESCRIPTION:
URL:https://www.andyemler.eu/evenements/duo-andy-emler-et-ballake-sissoko/
LOCATION:Collégiale Saint-Martin\, 2 rue Saint-Martin\, MONTMORENCY\, 95160\, France
CATEGORIES:Duo
ATTACH;FMTTYPE=image/png:https://www.andyemler.eu/wp-content/uploads/2020/08/Captura-de-Pantalla-2020-08-26-a-las-1.11.44.png
END:VEVENT
END:VCALENDAR