BEGIN:VCALENDAR
VERSION:2.0
PRODID:-//Andy Emler - ECPv6.15.17.1//NONSGML v1.0//EN
CALSCALE:GREGORIAN
METHOD:PUBLISH
X-WR-CALNAME:Andy Emler
X-ORIGINAL-URL:https://www.andyemler.eu
X-WR-CALDESC:Évènements pour Andy Emler
REFRESH-INTERVAL;VALUE=DURATION:PT1H
X-Robots-Tag:noindex
X-PUBLISHED-TTL:PT1H
BEGIN:VTIMEZONE
TZID:UTC
BEGIN:STANDARD
TZOFFSETFROM:+0000
TZOFFSETTO:+0000
TZNAME:UTC
DTSTART:20190101T000000
END:STANDARD
END:VTIMEZONE
BEGIN:VEVENT
DTSTART;TZID=UTC:20201010T100000
DTEND;TZID=UTC:20201010T100000
DTSTAMP:20260424T155117
CREATED:20200825T223612Z
LAST-MODIFIED:20200825T233626Z
UID:6437-1602324000-1602324000@www.andyemler.eu
SUMMARY:Masterclass - Jazz sur son 31
DESCRIPTION:
URL:https://www.andyemler.eu/evenements/masterclass-jazz-sur-son-31/
LOCATION:Espace Roguet\, 9 Rue de Gascogne\,\, Toulouse\, 31300\, France
CATEGORIES:Masterclass
ATTACH;FMTTYPE=image/png:https://www.andyemler.eu/wp-content/uploads/2020/08/Captura-de-Pantalla-2020-08-26-a-las-1.35.57.png
END:VEVENT
BEGIN:VEVENT
DTSTART;TZID=UTC:20201011T100000
DTEND;TZID=UTC:20201011T130000
DTSTAMP:20260424T155117
CREATED:20200825T224048Z
LAST-MODIFIED:20200825T233723Z
UID:6442-1602410400-1602421200@www.andyemler.eu
SUMMARY:Masterclass 2 Jazz sur son 31
DESCRIPTION:
URL:https://www.andyemler.eu/evenements/masterclass-2-jazz-sur-son-31/
LOCATION:Espace Roguet\, 9 Rue de Gascogne\,\, Toulouse\, 31300\, France
CATEGORIES:Masterclass
ATTACH;FMTTYPE=image/png:https://www.andyemler.eu/wp-content/uploads/2020/08/Captura-de-Pantalla-2020-08-26-a-las-1.35.57.png
END:VEVENT
BEGIN:VEVENT
DTSTART;TZID=UTC:20201014T203000
DTEND;TZID=UTC:20201014T230000
DTSTAMP:20260424T155117
CREATED:20200825T230003Z
LAST-MODIFIED:20201202T215531Z
UID:6444-1602707400-1602716400@www.andyemler.eu
SUMMARY:Duo Orgues et Anches - Dehors dans les Nuages
DESCRIPTION:DEHORS DANS LES NUAGES\nEmler & Dehors : duo au sommet \n\n\n\n\n\n\n\n\n\n\n\n\n\n\n Mer 14 Oct. Cathédrale Saint-Étienne MEsquirol/F. Verdier 20h30 de 5 à 12€ \n\n\n\n\n\nLa rencontre amicale d’Andy Emler et Laurent Dehors donne une musique voyageant entre écriture et improvisation au plus haut niveau.\nDe la musique répétitive au jazz moderne\, de l’énergie du rock aux musiques contemporaines\, les influences sont multiples et le résultat plein de surprises. Ballades et grooves s’entrecroisent\, enrichis par les multiples sonorités de l’orgue et des clarinettes\, saxophones et autre cornemuse de Laurent Dehors. \nConcert présenté dans le cadre du Festival Jazz sur son 31 en partenariat avec le Conseil départemental de la Haute-Garonne \nLa Compagnie aime l’air est conventionnée par la Drac et la Région Ile-de-France.\nElle est soutenue pour ses projets par le Conseil Départemental du Val-de-Marne\, l’ADAMI\, la Sacem et la Spedidam \nPrésentation du concert par Yves Rechsteiner : https://youtu.be/GhOgccSR11M
URL:https://www.andyemler.eu/evenements/duo-orgues-et-anches-dehors-dans-les-nuages/
LOCATION:Cathédrale Saint-Étienne\, Place Saint-Étienne\, Toulouse\, 31000\, France
CATEGORIES:Duo Orgue
ATTACH;FMTTYPE=image/jpeg:https://www.andyemler.eu/wp-content/uploads/2020/08/Souffle-Basque-Toulouse-les-Orgues-2020-2.jpg
END:VEVENT
BEGIN:VEVENT
DTSTART;VALUE=DATE:20201019
DTEND;VALUE=DATE:20201021
DTSTAMP:20260424T155117
CREATED:20200825T230159Z
LAST-MODIFIED:20200825T230159Z
UID:6450-1603065600-1603238399@www.andyemler.eu
SUMMARY:Résidence de Création - MegaOctet -  No Rush
DESCRIPTION:Privé
URL:https://www.andyemler.eu/evenements/residence-de-creation-megaoctet-no-rush/
LOCATION:Studio Sextan\, 10 Rue E. Varlin\, Malakoff\, 92240\, France
CATEGORIES:megaoctet
ATTACH;FMTTYPE=image/jpeg:https://www.andyemler.eu/wp-content/uploads/2019/12/cc111119-dscf7876.jpg
END:VEVENT
END:VCALENDAR