BEGIN:VCALENDAR
VERSION:2.0
PRODID:-//Andy Emler - ECPv6.15.17.1//NONSGML v1.0//EN
CALSCALE:GREGORIAN
METHOD:PUBLISH
X-ORIGINAL-URL:https://www.andyemler.eu
X-WR-CALDESC:Évènements pour Andy Emler
REFRESH-INTERVAL;VALUE=DURATION:PT1H
X-Robots-Tag:noindex
X-PUBLISHED-TTL:PT1H
BEGIN:VTIMEZONE
TZID:UTC
BEGIN:STANDARD
TZOFFSETFROM:+0000
TZOFFSETTO:+0000
TZNAME:UTC
DTSTART:20190101T000000
END:STANDARD
END:VTIMEZONE
BEGIN:VEVENT
DTSTART;TZID=UTC:20200401T200000
DTEND;TZID=UTC:20200401T230000
DTSTAMP:20260425T010739
CREATED:20200203T093039Z
LAST-MODIFIED:20200203T093039Z
UID:5193-1585771200-1585782000@www.andyemler.eu
SUMMARY:Feel The Time Musiques improvisées
DESCRIPTION:Entre écriture et improvisation pour voix et grandes orgues \nLe 20e siècle a généré de multiples nouveaux langages musicaux tels que le jazz\, les musiques amplifiées (pop rock etc…) et la pratique de l’improvisation a retrouvé sa place dans les parcours musicaux. Elise Caron et Andy Emler font partie de cette génération d’artistes ayant traversé les mondes de la musique classique\, contemporaine\, jazz et autres musiques traditionnelles et populaires. Dans « Feel the time »\, ils nous proposent un moment optimiste jonglant entre l’écrit et l’improvisé instrumental et vocal. Les compositions d’Andy Emler au service d’une grande soliste délivrent un message de tolérance\, d’altruisme et de compassion. \nÉlise Caron\, chantAndy Emler\, orgue \nConcert organisé en partenariat avec Voiron Jazz Festival\, CIMN – Détours de Babel
URL:https://www.andyemler.eu/evenements/feel-the-time-musiques-improvisees/
LOCATION:Église Saint-André-le-Bas\, Place du Jeux de Paume\, Vienne\, 38200\, France
CATEGORIES:Création
ATTACH;FMTTYPE=image/jpeg:https://www.andyemler.eu/wp-content/uploads/2020/02/6.feel_the_time-962d4.jpg
ORGANIZER;CN="D%C3%A9tours de Babel":MAILTO:contact@detoursdebabel.fr
END:VEVENT
END:VCALENDAR