BEGIN:VCALENDAR
VERSION:2.0
PRODID:-//Andy Emler - ECPv6.15.17.1//NONSGML v1.0//EN
CALSCALE:GREGORIAN
METHOD:PUBLISH
X-WR-CALNAME:Andy Emler
X-ORIGINAL-URL:https://www.andyemler.eu
X-WR-CALDESC:Évènements pour Andy Emler
REFRESH-INTERVAL;VALUE=DURATION:PT1H
X-Robots-Tag:noindex
X-PUBLISHED-TTL:PT1H
BEGIN:VTIMEZONE
TZID:UTC
BEGIN:STANDARD
TZOFFSETFROM:+0000
TZOFFSETTO:+0000
TZNAME:UTC
DTSTART:20190101T000000
END:STANDARD
END:VTIMEZONE
BEGIN:VEVENT
DTSTART;TZID=UTC:20200306T200000
DTEND;TZID=UTC:20200306T230000
DTSTAMP:20260425T022518
CREATED:20191116T152627Z
LAST-MODIFIED:20200109T123933Z
UID:3125-1583524800-1583535600@www.andyemler.eu
SUMMARY:Trio ETE au Studio Sextan La Fonderie
DESCRIPTION:
URL:https://www.andyemler.eu/evenements/trio-ete-au-studio-sextan-la-fonderie/
LOCATION:Studio Sextan\, 10 Rue E. Varlin\, Malakoff\, 92240\, France
CATEGORIES:Trio ETE
ATTACH;FMTTYPE=image/jpeg:https://www.andyemler.eu/wp-content/uploads/2019/11/sextan-concert-andyemlertrio.jpg
END:VEVENT
BEGIN:VEVENT
DTSTART;TZID=UTC:20200311T200000
DTEND;TZID=UTC:20200311T200000
DTSTAMP:20260425T022518
CREATED:20191116T153202Z
LAST-MODIFIED:20191116T153427Z
UID:3128-1583956800-1583956800@www.andyemler.eu
SUMMARY:Concerto pour trio et orchestre au conservatoire Darius Milhaud
DESCRIPTION:Musicien pédagogue\, improvisateur éclectique et compositeur d’exception\, Andy Emler est aussi un jeune pianiste sexagénaire qui n’en finit pas d’apprendre et de s’amuser.\n\nCette soirée carte blanche\, dirigée d’une main de maître par le parrain du jazz français\, commencera avec le trio ETE\, qu’il forme avec Echampard et Tchamitchian. Machine à jazz bien huilée\, les trois complices nous offrent des mélodies texturées\, tout en contrastes et en subtilités.En deuxième partie\, le trio invite l’orchestre symphonique du conservatoire d’Aix à entrer dans la danse sur une composition inédite de Emler\, Un été malmené. L’orchestre groove. Le trio\, occupe la place du soliste et amène une touche pleine de fantaisie et de surprises à l’ensemble. Une jolie rencontre musicale. \n\nTrio ETE\nPiano\, compositions Andy Emler\nContrebasse Claude Tchamitchian\nBatterie Eric Echampard\nOrchestre Symphonique du Conservatoire Darius Milhaud avec la participation d’élèves de l’IESM\nDirection Jean-Philippe Dambreville
URL:https://www.andyemler.eu/evenements/concerto-pour-trio-et-orchestre-au-conservatoire-darius-milhaud/
LOCATION:CONSERVATOIRE DARIUS MILHAUD\, 380 Avenue Max Juvénal\, Aix-en-Provence\, 13100\, France
CATEGORIES:Trio ETE
ATTACH;FMTTYPE=image/png:https://www.andyemler.eu/wp-content/uploads/2019/11/Captura-de-Pantalla-2019-11-16-a-las-9.30.17.png
END:VEVENT
BEGIN:VEVENT
DTSTART;TZID=UTC:20200313T200000
DTEND;TZID=UTC:20200313T230000
DTSTAMP:20260425T022518
CREATED:20191116T154138Z
LAST-MODIFIED:20200206T112415Z
UID:3133-1584129600-1584140400@www.andyemler.eu
SUMMARY:Andy Emler et A Filetta au Pan Piper
DESCRIPTION:[et_pb_section][et_pb_row][et_pb_column type= »4_4″][et_pb_text] \n[button link= »https://web.digitick.com/andy-emler-quartet-a-filetta-concert-le-pan-piper-paris-13-mars-2020-css5-panpiper-pg101-ri6737405.html » type= »big » color= »red » newwindow= »yes »] BILLETTERIE[/button] \n[/et_pb_text][/et_pb_column][/et_pb_row][/et_pb_section]
URL:https://www.andyemler.eu/evenements/andy-emler-et-a-filetta-a-le-pan-piper/
LOCATION:Le Pan Piper\, 2-4 Impasse Lamier\, Paris\, 75011\, France
CATEGORIES:A Filetta
ATTACH;FMTTYPE=image/jpeg:https://www.andyemler.eu/wp-content/uploads/2019/11/afiletta-andyemler-pan-piper.jpg
END:VEVENT
BEGIN:VEVENT
DTSTART;TZID=UTC:20200314T200000
DTEND;TZID=UTC:20200314T230000
DTSTAMP:20260425T022518
CREATED:20191116T154837Z
LAST-MODIFIED:20200109T123553Z
UID:3136-1584216000-1584226800@www.andyemler.eu
SUMMARY:Andy Emler MegaOctet 30ans - Just a Beginning au Pan Piper
DESCRIPTION:
URL:https://www.andyemler.eu/evenements/andy-emler-megaoctet-30ans-just-a-beginning-au-pan-piper/
LOCATION:Le Pan Piper\, 2-4 Impasse Lamier\, Paris\, 75011\, France
CATEGORIES:megaoctet
ATTACH;FMTTYPE=image/jpeg:https://www.andyemler.eu/wp-content/uploads/2019/11/andyemler-megaoctet-panpiper.jpg
END:VEVENT
BEGIN:VEVENT
DTSTART;TZID=UTC:20200317T200000
DTEND;TZID=UTC:20200317T200000
DTSTAMP:20260425T022518
CREATED:20191116T155306Z
LAST-MODIFIED:20200203T101244Z
UID:3138-1584475200-1584475200@www.andyemler.eu
SUMMARY:Andy Emler MegaOctet 30ans - Just a Beginning à Marseille
DESCRIPTION:Ils ont tout joué\, tout raflé et se sont hissés au rang d’ensemble de référence du jazz européen. Trente ans de groove\, de complicité et d’immense créativité.\n\nAndy Emler rassemble autour de lui huit musiciens et les flamboyants solistes : Nguyên Lê et Médéric Collignon. Ensemble\, ils interprèteront des morceaux emblématiques de leur histoire tout en faisant une place de choix aux solos  de chacun. Avec l’énergie du rock et le groove du jazz\, le MegaOctet vous surprendra par une musique virtuose mais jamais sérieuse qui explose véritablement sur scène. Et puisque le MegaOctet fête ses 30 ans\, les musiciens vous ont concocté une petite surprise\, une touche finale au concert…
URL:https://www.andyemler.eu/evenements/andy-emler-megaoctet-30ans-just-a-beginning-a-marseille/
LOCATION:Théâtre du Gymnase\, 4 Rue du Théatre Français\, Marseille\, 13001\, France
CATEGORIES:megaoctet
ATTACH;FMTTYPE=image/jpeg:https://www.andyemler.eu/wp-content/uploads/2019/10/megaoctet-30ans2.jpg
END:VEVENT
BEGIN:VEVENT
DTSTART;TZID=UTC:20200328T000000
DTEND;TZID=UTC:20200328T000000
DTSTAMP:20260425T022518
CREATED:20191116T161144Z
LAST-MODIFIED:20191116T161144Z
UID:3142-1585353600-1585353600@www.andyemler.eu
SUMMARY:Création pour musiciens amateurs
DESCRIPTION:
URL:https://www.andyemler.eu/evenements/creation-pour-musiciens-amateurs/
LOCATION:Festival Voiron Jazz Festival\, Voiron\, France
CATEGORIES:Création
END:VEVENT
BEGIN:VEVENT
DTSTART;TZID=UTC:20200329T000000
DTEND;TZID=UTC:20200329T000000
DTSTAMP:20260425T022518
CREATED:20191116T161506Z
LAST-MODIFIED:20191116T161506Z
UID:3146-1585440000-1585440000@www.andyemler.eu
SUMMARY:Duo Elise Caron Andy Emler Orgues et Voix
DESCRIPTION:
URL:https://www.andyemler.eu/evenements/duo-elise-caron-andy-emler-orgues-et-voix/
LOCATION:Festival Voiron Jazz Festival\, Voiron\, France
CATEGORIES:Création
END:VEVENT
BEGIN:VEVENT
DTSTART;TZID=UTC:20200331T123000
DTEND;TZID=UTC:20200331T143000
DTSTAMP:20260425T022518
CREATED:20200203T092501Z
LAST-MODIFIED:20200203T092501Z
UID:5189-1585657800-1585665000@www.andyemler.eu
SUMMARY:Feel the time Elise Caron & Andy Emler
DESCRIPTION:Entre écriture et improvisation pour voix et grandes orgues\nCréation\n\nElise Caron VoixAndy Emler Orgue \n\n\nLe 20ème siècle a généré de multiples langages musicaux\, comme le jazz ou les musiques amplifiées (pop\, rock\, rap…)\, et la pratique de l’improvisation a retrouvé sa place dans les parcours musicaux. \nElise Caron et Andy Emler font partie de cette génération d’artistes ayant traversé les mondes de la musique classique\, contemporaine\, jazz et autres musiques traditionnelles et populaires. Dans « Feel the time »\, ils proposent un moment enchanté\, jonglant entre l’écrit et l’improvisé instrumental et vocal. Les compositions d’Andy Emler au service d’une grande soliste souhaitent délivrer un message de tolérance et d’altruisme. \nElise Caron (auteur – compositrice – interprète) traverse les époques avec ses multiples talents de comédienne\, au cinéma comme sur scène. Sa voix contribue à la création\, valsant entre musique contemporaine\, chanson et improvisation. Elle entre en résonance avec les orgues d’Andy Emler\, pianiste\, organiste\, compositeur et chef d’orchestre au parcours foisonnant\, dont les constantes sont la création et le plaisir de partager la musique. \nPour ce nouveau répertoire\, le choix des auteurs est un savant dosage entre humour et sérieux\, pour un moment de pur plaisir de l’écoute\, nous permettant d’apprécier la complicité et la connivence du duo installé aux claviers de l’orgue. \nCe concert traversant\, sans frontières\, les musiques du 20 ème siècle tente de créer une musique du 21 ème siècle. Moment singulier dans un monde où le « vivre ensemble » devient une priorité absolue pour toute l’humanité\, sans exception. \n\n 
URL:https://www.andyemler.eu/evenements/feel-the-time-elise-caron-andy-emler/
LOCATION:Eglise Saint-Louis – Grenoble\, Rue Félix Poulat\, Grenoble\, 38000\, France
CATEGORIES:Création
ATTACH;FMTTYPE=image/jpeg:https://www.andyemler.eu/wp-content/uploads/2020/02/d49020b3f35031b0f6416cb535b80d.jpg
END:VEVENT
BEGIN:VEVENT
DTSTART;TZID=UTC:20200331T200000
DTEND;TZID=UTC:20200331T230000
DTSTAMP:20260425T022518
CREATED:20191116T162123Z
LAST-MODIFIED:20191116T162123Z
UID:3148-1585684800-1585695600@www.andyemler.eu
SUMMARY:Andy Emler MegaOctet Orchestre du Conservatoire de Voiron
DESCRIPTION:Musique\nLe Andy Emler Mégaoctet\n1e partie : création avec les orchestres du conservatoire de Voiron\nMardi 31 mars 2020 à 20h00\n \n\n\nC’est à une soirée exceptionnelle que le Grand Angle\, le conservatoire de Voiron et Andy Emler vous invitent. En première partie\, les ensembles d’élèves du conservatoire de Voiron joueront une création inédite d’Andy Emler ! \nEnsuite\, le Andy Emler MegaOctet prendra pleinement possession de la scène. Trop festive pour en faire un mini big band de jazz convenu et trop virtuose\, trop généreuse pour en faire un orchestre de divertissement haut de gamme\, le MegaOctet est une aventure musicale en soi.\nTambouilleur d’esthétiques musicales multiples\, surprenant et joueur\, Andy Emler est accompagné d’une équipe de musiciens hors-normes\, un groupe débordant d’énergie qui bouscule les genres musicaux pour toucher tous les publics avertis et profanes. \nAttention\, haut risque de jubilation et de plaisir ! \nOrganisé dans le cadre de la 10e édition du Voiron jazz Festival \nDurée : environ 2h. Placement libre\nTarifs : Plein tarif : 20€ ♦ Réduit : 17€\nJED : 12€ ♦ Enfant : 10€\nAbo. : 14€ ♦ Abo. JED : 10€ \nCompositions\, piano : Andy Emler\nSaxophone alto\, soprano : Guillaume Orti\nSaxophone alto : Philippe Sellam\nSaxophone ténor\, clarinettes : Laurent Dehors\nTrompette\, bugle : Laurent Blondiau\nTuba : François Thuillier\nPercussion : François Verly\nContrebasse : Claude Tchamitchian\nBatterie : Éric Echampard\nIngénieur du son : Vincent Mahey \nLa Compagnie aime l’air est conventionnée par la DRAC et la Région Île-de-France. Les projets de la Compagnie aime l’air sont soutenus par la Sacem\, la Spedidam et l’ADAMI. Le Andy Emler MegaOctet est membre de la fédération des artistes pour la musique en Grands Formats.
URL:https://www.andyemler.eu/evenements/andy-emler-megaoctet-orchestre-du-conservatoire-de-voiron/
LOCATION:Théâtre du Grand Angle\, 6\, rue du Moulinet\, Voiron\, 38500\, France
CATEGORIES:megaoctet
ATTACH;FMTTYPE=image/png:https://www.andyemler.eu/wp-content/uploads/2019/11/Captura-de-Pantalla-2019-11-16-a-las-10.19.40.png
END:VEVENT
END:VCALENDAR