BEGIN:VCALENDAR
VERSION:2.0
PRODID:-//Andy Emler - ECPv6.15.17.1//NONSGML v1.0//EN
CALSCALE:GREGORIAN
METHOD:PUBLISH
X-ORIGINAL-URL:https://www.andyemler.eu
X-WR-CALDESC:Évènements pour Andy Emler
REFRESH-INTERVAL;VALUE=DURATION:PT1H
X-Robots-Tag:noindex
X-PUBLISHED-TTL:PT1H
BEGIN:VTIMEZONE
TZID:UTC
BEGIN:STANDARD
TZOFFSETFROM:+0000
TZOFFSETTO:+0000
TZNAME:UTC
DTSTART:20210101T000000
END:STANDARD
END:VTIMEZONE
BEGIN:VEVENT
DTSTART;TZID=UTC:20220720T203000
DTEND;TZID=UTC:20220720T223000
DTSTAMP:20260421T105507
CREATED:20220607T082356Z
LAST-MODIFIED:20220607T082356Z
UID:8416-1658349000-1658356200@www.andyemler.eu
SUMMARY:"A Chacun son Court" duel de pianos - Royan
DESCRIPTION:C’est l’heure du match retour entre Yvan Cassar et Andy Emler sous l’arbitrage de l’humoriste et chroniqueur Alex Jaffray. Un duel inclassable par l’éclectisme des deux artistes capables de s’affronter dans le domaine du classique\, de la variété\, du jazz ou encore du rock…\n\nYvan Cassar\, compositeur\, pianiste\, arrangeur et directeur musical de grands évènements (ouverture des mondiaux d’Athlétisme à Athènes en 1997\, concert aux Pyramides du Caire de Jean-Michel Jarre\, shows musicaux d’artistes tels que Mylène Farmer ou Johnny Hallyday…) et plus récemment d’émissions télé telle que Symphonissime sur France 2\, défiera le compositeur\, catalyseur d’enthousiasmes\, initiateur de rencontres\, arrangeur\, pédagogue\, improvisateur\, pianiste et organiste\, Andy Emler.\nLa soirée promet d’être riche en coup droit et revers de notes bien placées.\n\nBilletterie en ligne.
URL:https://www.andyemler.eu/evenements/a-chacun-son-court-duel-de-pianos-royan/
LOCATION:Garden Tennis de Royan\, 4 allées des Rochers\, Royan\, 17200\, France
ATTACH;FMTTYPE=image/jpeg:https://www.andyemler.eu/wp-content/uploads/2022/06/Untitled-design-11.jpg
END:VEVENT
END:VCALENDAR