BEGIN:VCALENDAR
VERSION:2.0
PRODID:-//Andy Emler - ECPv6.15.17.1//NONSGML v1.0//EN
CALSCALE:GREGORIAN
METHOD:PUBLISH
X-ORIGINAL-URL:https://www.andyemler.eu
X-WR-CALDESC:Évènements pour Andy Emler
REFRESH-INTERVAL;VALUE=DURATION:PT1H
X-Robots-Tag:noindex
X-PUBLISHED-TTL:PT1H
BEGIN:VTIMEZONE
TZID:UTC
BEGIN:STANDARD
TZOFFSETFROM:+0000
TZOFFSETTO:+0000
TZNAME:UTC
DTSTART:20210101T000000
END:STANDARD
END:VTIMEZONE
BEGIN:VEVENT
DTSTART;TZID=UTC:20220704T100000
DTEND;TZID=UTC:20220709T203000
DTSTAMP:20260421T105551
CREATED:20220607T080404Z
LAST-MODIFIED:20220607T080404Z
UID:8406-1656928800-1657398600@www.andyemler.eu
SUMMARY:Stage d'improvisation au Triton
DESCRIPTION:Dans la lignée des Trit[on]stage\, le Triton initie cette année la première édition de son académie d’été ImproTriton. Cette semaine de stage musical intensive sera animée par les huit musiciens compagnons en résidence au Triton en 2022\, accompagnés pour l’occasion du batteur Éric Échampard. \nCette université d’été propose une approche sans classification stylistique ni esthétique du geste improvisé\, avec des acteurs majeurs de la scène française des musiques improvisées. Les démarches musicales de ces artistes ont probablement comme caractéristique com- mune le constant souci d’innovation et de création\, le constant désir de croiser des pra- tiques et des cultures. Les membres de l’équipe pédagogique ne sont pas à proprement parler des musiciens de « répertoire » mais plutôt des concepteurs\, des architectes\, mélan- geant toute sorte d’éléments sonores\, toute sorte de clivages rythmiques et culturels\, uti- lisant à la fois l’écrit et l’improvisé. \nL’improvisation est très certainement leur principal mode d’expression\, et c’est sur la base de ce savoir-faire\, voire cette manière d’être\, que nous vous proposons cette académie d’été. Il ne s’agira donc pas ici d’apprendre comment mieux faire une variation sur un thème donné\, mais plutôt comment composer et orchestrer dans l’instant. \nCe stage dédié à l’improvisation et à la création est ouvert aux musiciennes et musiciens de tous horizons. \n  \n\n\n\n\n\n\nInscriptions et renseignements au 01 49 72 83 12 ou marianne@letriton.com.
URL:https://www.andyemler.eu/evenements/stage-dimprovisation-au-triton/
LOCATION:Le Triton\, 11 bis\, rue du Coq Français\, Les Lilas\, 93260\, France
ATTACH;FMTTYPE=image/jpeg:https://www.andyemler.eu/wp-content/uploads/2022/06/improtriton.jpeg
END:VEVENT
BEGIN:VEVENT
DTSTART;TZID=UTC:20220709T203000
DTEND;TZID=UTC:20220709T223000
DTSTAMP:20260421T105551
CREATED:20220607T080908Z
LAST-MODIFIED:20220607T080908Z
UID:8411-1657398600-1657405800@www.andyemler.eu
SUMMARY:Tchamitchian/ Lê Quang - Emler / Échampard "Improtriton"
DESCRIPTION:Suite et fin ce soir de cette première édition de notre nouvelle Académie d’été “ImproTriton” ainsi que de nos concerts des compagnons « profs » du Triton. Pour fêter comme il se doit cette nouveauté\, en même temps que la fin du trimestre\, place à un magnifique double plateau composé de quatre génies de l’improvisation\, que les spectateurs du Triton connaissent et apprécient. Tout d’abord\, ce sera une rencontre inédite entre le contrebassiste Claude Tchamitchian et le saxophoniste Vincent Lê Quang\, deux virtuoses réputés pour leur finesse et leur élégance. Puis\, s’en suivra un duo entre deux grands artistes qui écrivent à quatre mains leur vie musicale depuis près de 20 ans : le pianiste Andy Emler et le batteur Éric Échampard. Enfin\, comme hier\, les quatre musiciens du soir partageront la scène pour un mini-set en “total free”…  \nBilletterie ou au 01.49.72.83.13.
URL:https://www.andyemler.eu/evenements/tchamitchian-le-quang-emler-echampard-improtriton/
LOCATION:Le Triton\, 11 bis\, rue du Coq Français\, Les Lilas\, 93260\, France
ATTACH;FMTTYPE=image/jpeg:https://www.andyemler.eu/wp-content/uploads/2022/06/impro-samedi-pic.jpeg
END:VEVENT
END:VCALENDAR