BEGIN:VCALENDAR
VERSION:2.0
PRODID:-//Andy Emler - ECPv6.15.17.1//NONSGML v1.0//EN
CALSCALE:GREGORIAN
METHOD:PUBLISH
X-WR-CALNAME:Andy Emler
X-ORIGINAL-URL:https://www.andyemler.eu
X-WR-CALDESC:Évènements pour Andy Emler
REFRESH-INTERVAL;VALUE=DURATION:PT1H
X-Robots-Tag:noindex
X-PUBLISHED-TTL:PT1H
BEGIN:VTIMEZONE
TZID:UTC
BEGIN:STANDARD
TZOFFSETFROM:+0000
TZOFFSETTO:+0000
TZNAME:UTC
DTSTART:20210101T000000
END:STANDARD
END:VTIMEZONE
BEGIN:VEVENT
DTSTART;TZID=UTC:20220617T203000
DTEND;TZID=UTC:20220617T223000
DTSTAMP:20260421T121513
CREATED:20220531T135348Z
LAST-MODIFIED:20220607T075242Z
UID:8376-1655497800-1655505000@www.andyemler.eu
SUMMARY:Duo orgue Andy Emler\, Laurent Dehors à L'Entre Deux Scène de Lésigny
DESCRIPTION:Dans le cadre du festival intercommunal Ca Jazz aux Portes Briardes\, un voyage vingt-mille lieues sur l’Emler\, aux commandes des grandes orgues\, en dialogue avec Laurent Dehors pour un moment d’exception plein de surprises ! \n\n\nAndy Emler\, artiste multi récompensé et aventurier tout terrain sait briller dans les formations de toutes tailles et de tous horizons esthétiques. Au cœur de l’ensemble des cultures musicales de notre époque\, il compose et joue ici sur orgues classiques. Plus de 30 années d’amitié et de compagnonnages font de ce duo avec Laurent Dehors un moment d’exception.De la musique répétitive au jazz moderne\, de l’énergie du rock aux musiques contemporaines\, les influences sont multiples et le résultat plein de surprises. Ballades et grooves s’entrecroisent\, enrichis par les multiples sonorités de l’orgue et des clarinettes\, saxophones et autre cornemuse de Laurent Dehors. Ils nous proposent un répertoire reliant les mondes de la musique d’église aux courants contemporains et nous plongent dans une « sacrée musique » plutôt qu’une musique sacrée.  \n\nBilletterie en ligne. \n 
URL:https://www.andyemler.eu/evenements/duo-orgue-andy-emler-laurent-dehors-a-lentre-deux-scene-de-lesigny/
LOCATION:L’Entre Deux\, Scène de Lésigny\, Avenue des Hyverneaux\, Lésigny\, 77150\, France
CATEGORIES:Duo Orgue
ATTACH;FMTTYPE=image/jpeg:https://www.andyemler.eu/wp-content/uploads/2022/05/dehorsdanslesnuages_17juin.jpg
END:VEVENT
END:VCALENDAR