BEGIN:VCALENDAR
VERSION:2.0
PRODID:-//Andy Emler - ECPv6.15.17.1//NONSGML v1.0//EN
CALSCALE:GREGORIAN
METHOD:PUBLISH
X-WR-CALNAME:Andy Emler
X-ORIGINAL-URL:https://www.andyemler.eu
X-WR-CALDESC:Évènements pour Andy Emler
REFRESH-INTERVAL;VALUE=DURATION:PT1H
X-Robots-Tag:noindex
X-PUBLISHED-TTL:PT1H
BEGIN:VTIMEZONE
TZID:UTC
BEGIN:STANDARD
TZOFFSETFROM:+0000
TZOFFSETTO:+0000
TZNAME:UTC
DTSTART:20210101T000000
END:STANDARD
END:VTIMEZONE
BEGIN:VEVENT
DTSTART;VALUE=DATE:20220319
DTEND;VALUE=DATE:20220320
DTSTAMP:20260421T165424
CREATED:20211207T134501Z
LAST-MODIFIED:20211207T134501Z
UID:7712-1647648000-1647734399@www.andyemler.eu
SUMMARY:Duo Andy Emler et Nicole Caligaris
DESCRIPTION:
URL:https://www.andyemler.eu/evenements/duo-andy-emler-et-nicole-caligaris/
LOCATION:Le Comptoir\, 95 rue Roublot\, Fontenay-sous-bois\, 94120\, France
CATEGORIES:Duo
ATTACH;FMTTYPE=image/jpeg:https://www.andyemler.eu/wp-content/uploads/2021/12/bandeau-printemps-des-poetes_1.jpg
END:VEVENT
END:VCALENDAR