BEGIN:VCALENDAR
VERSION:2.0
PRODID:-//Andy Emler - ECPv6.15.17.1//NONSGML v1.0//EN
CALSCALE:GREGORIAN
METHOD:PUBLISH
X-WR-CALNAME:Andy Emler
X-ORIGINAL-URL:https://www.andyemler.eu
X-WR-CALDESC:Évènements pour Andy Emler
REFRESH-INTERVAL;VALUE=DURATION:PT1H
X-Robots-Tag:noindex
X-PUBLISHED-TTL:PT1H
BEGIN:VTIMEZONE
TZID:UTC
BEGIN:STANDARD
TZOFFSETFROM:+0000
TZOFFSETTO:+0000
TZNAME:UTC
DTSTART:20210101T000000
END:STANDARD
END:VTIMEZONE
BEGIN:VEVENT
DTSTART;VALUE=DATE:20220305
DTEND;VALUE=DATE:20220306
DTSTAMP:20260421T165426
CREATED:20211207T133928Z
LAST-MODIFIED:20211207T133928Z
UID:7707-1646438400-1646524799@www.andyemler.eu
SUMMARY:Tubafest Douarnenez
DESCRIPTION:
URL:https://www.andyemler.eu/evenements/tubafest-douarnenez/
LOCATION:Conservatoire de Douarnenez\, 88 Rue Louis Pasteur\,\, Douarnenez\, 29100\, France
CATEGORIES:Tubafest
ATTACH;FMTTYPE=image/jpeg:https://www.andyemler.eu/wp-content/uploads/2019/10/tubafest-c-christophe-charpenel-1.jpg
END:VEVENT
END:VCALENDAR