BEGIN:VCALENDAR
VERSION:2.0
PRODID:-//Andy Emler - ECPv6.15.17.1//NONSGML v1.0//EN
CALSCALE:GREGORIAN
METHOD:PUBLISH
X-ORIGINAL-URL:https://www.andyemler.eu
X-WR-CALDESC:Évènements pour Andy Emler
REFRESH-INTERVAL;VALUE=DURATION:PT1H
X-Robots-Tag:noindex
X-PUBLISHED-TTL:PT1H
BEGIN:VTIMEZONE
TZID:UTC
BEGIN:STANDARD
TZOFFSETFROM:+0000
TZOFFSETTO:+0000
TZNAME:UTC
DTSTART:20210101T000000
END:STANDARD
END:VTIMEZONE
BEGIN:VEVENT
DTSTART;VALUE=DATE:20220129
DTEND;VALUE=DATE:20220130
DTSTAMP:20260421T192720
CREATED:20211207T132515Z
LAST-MODIFIED:20220125T103542Z
UID:7689-1643414400-1643500799@www.andyemler.eu
SUMMARY:Trio ETE au Chorus Lausanne
DESCRIPTION:
URL:https://www.andyemler.eu/evenements/trio-ete-au-chorus-lausanne/
LOCATION:Chorus\, Av. de Mon-Repos 3\, Lausanne\, 1005\, Suisse
CATEGORIES:Trio ETE
ATTACH;FMTTYPE=image/jpeg:https://www.andyemler.eu/wp-content/uploads/2020/09/WEB_7695.jpg
END:VEVENT
END:VCALENDAR