BEGIN:VCALENDAR
VERSION:2.0
PRODID:-//Andy Emler - ECPv6.15.17.1//NONSGML v1.0//EN
CALSCALE:GREGORIAN
METHOD:PUBLISH
X-WR-CALNAME:Andy Emler
X-ORIGINAL-URL:https://www.andyemler.eu
X-WR-CALDESC:Évènements pour Andy Emler
REFRESH-INTERVAL;VALUE=DURATION:PT1H
X-Robots-Tag:noindex
X-PUBLISHED-TTL:PT1H
BEGIN:VTIMEZONE
TZID:UTC
BEGIN:STANDARD
TZOFFSETFROM:+0000
TZOFFSETTO:+0000
TZNAME:UTC
DTSTART:20200101T000000
END:STANDARD
END:VTIMEZONE
BEGIN:VEVENT
DTSTART;VALUE=DATE:20211014
DTEND;VALUE=DATE:20211015
DTSTAMP:20260421T234033
CREATED:20211005T081855Z
LAST-MODIFIED:20211005T081942Z
UID:7533-1634169600-1634255999@www.andyemler.eu
SUMMARY:Masterclass Trio ETE Conservatoire de Bourges
DESCRIPTION:
URL:https://www.andyemler.eu/evenements/masterclass-trio-ete-conservatoire-de-bourges/
LOCATION:Conservatoire de Bourges\, 34 Rue Henri Sellier\, Bourges\, 18000\, France
CATEGORIES:Masterclass
ATTACH;FMTTYPE=image/jpeg:https://www.andyemler.eu/wp-content/uploads/2021/04/mailchimp2.jpg
END:VEVENT
END:VCALENDAR