BEGIN:VCALENDAR
VERSION:2.0
PRODID:-//Andy Emler - ECPv6.15.17.1//NONSGML v1.0//EN
CALSCALE:GREGORIAN
METHOD:PUBLISH
X-WR-CALNAME:Andy Emler
X-ORIGINAL-URL:https://www.andyemler.eu
X-WR-CALDESC:Évènements pour Andy Emler
REFRESH-INTERVAL;VALUE=DURATION:PT1H
X-Robots-Tag:noindex
X-PUBLISHED-TTL:PT1H
BEGIN:VTIMEZONE
TZID:UTC
BEGIN:STANDARD
TZOFFSETFROM:+0000
TZOFFSETTO:+0000
TZNAME:UTC
DTSTART:20200101T000000
END:STANDARD
END:VTIMEZONE
BEGIN:VEVENT
DTSTART;VALUE=DATE:20210925
DTEND;VALUE=DATE:20210926
DTSTAMP:20260422T011330
CREATED:20210416T155938Z
LAST-MODIFIED:20210903T134724Z
UID:6885-1632528000-1632614399@www.andyemler.eu
SUMMARY:Andy Emler Megaoctet - Festival Raccord(s)
DESCRIPTION:
URL:https://www.andyemler.eu/evenements/andy-emler-megaoctet-festival-raccords/
LOCATION:La Maison de la Poésie\, 157 Rue Saint-Martin\, Paris\, 75003\, France
CATEGORIES:megaoctet
ATTACH;FMTTYPE=image/jpeg:https://www.andyemler.eu/wp-content/uploads/2021/04/banner_maisondelapoesie.jpg
END:VEVENT
END:VCALENDAR