BEGIN:VCALENDAR
VERSION:2.0
PRODID:-//Andy Emler - ECPv6.15.17.1//NONSGML v1.0//EN
CALSCALE:GREGORIAN
METHOD:PUBLISH
X-WR-CALNAME:Andy Emler
X-ORIGINAL-URL:https://www.andyemler.eu
X-WR-CALDESC:Évènements pour Andy Emler
REFRESH-INTERVAL;VALUE=DURATION:PT1H
X-Robots-Tag:noindex
X-PUBLISHED-TTL:PT1H
BEGIN:VTIMEZONE
TZID:UTC
BEGIN:STANDARD
TZOFFSETFROM:+0000
TZOFFSETTO:+0000
TZNAME:UTC
DTSTART:20200101T000000
END:STANDARD
END:VTIMEZONE
BEGIN:VEVENT
DTSTART;VALUE=DATE:20210813
DTEND;VALUE=DATE:20210814
DTSTAMP:20260422T023133
CREATED:20210416T145828Z
LAST-MODIFIED:20210702T092554Z
UID:6867-1628812800-1628899199@www.andyemler.eu
SUMMARY:Orgue et voix - Andy Emler et Elise Caron et autres surprises...
DESCRIPTION:Compositeur en résidence au Festival Fort en Musique de Giromagny\, près de Belfort (90)\, Andy Emler donnera un concert en duo avec la chanteuse et flûtiste Elise Caron. \nConcert présenté par Marie-Christine Barrault et Pascal Contet.
URL:https://www.andyemler.eu/evenements/orgue-et-voix-andy-emler-et-elise-caron/
LOCATION:Festival Fort en Musique\, Fort Dorsner\, Giromagny\, 90200\, France
CATEGORIES:Duo,Duo Orgue
ATTACH;FMTTYPE=image/jpeg:https://www.andyemler.eu/wp-content/uploads/2020/02/elise-caron-andyemler-valerie-clement-sylvain-gripoix.jpg
END:VEVENT
END:VCALENDAR