BEGIN:VCALENDAR
VERSION:2.0
PRODID:-//Andy Emler - ECPv6.15.17.1//NONSGML v1.0//EN
CALSCALE:GREGORIAN
METHOD:PUBLISH
X-ORIGINAL-URL:https://www.andyemler.eu
X-WR-CALDESC:Évènements pour Andy Emler
REFRESH-INTERVAL;VALUE=DURATION:PT1H
X-Robots-Tag:noindex
X-PUBLISHED-TTL:PT1H
BEGIN:VTIMEZONE
TZID:UTC
BEGIN:STANDARD
TZOFFSETFROM:+0000
TZOFFSETTO:+0000
TZNAME:UTC
DTSTART:20200101T000000
END:STANDARD
END:VTIMEZONE
BEGIN:VEVENT
DTSTART;TZID=UTC:20210812T190000
DTEND;TZID=UTC:20210812T200000
DTSTAMP:20260422T023516
CREATED:20210702T093639Z
LAST-MODIFIED:20210702T093639Z
UID:7305-1628794800-1628798400@www.andyemler.eu
SUMMARY:Un moment...avec Andy Emler au Festival Fort en Musique
DESCRIPTION:Anne Montaron\, journaliste à Radio France\, présentera « Andy par Emler » et « Elise par Caron ». Puis\, Andy Emler\, compositeur en résidence du Festival Fort en Musique de Giromagny\, fera résonner l’orgue de Saint-Germain-le-Châtelet.
URL:https://www.andyemler.eu/evenements/un-moment-avec-andy-emler-au-festival-fort-en-musique/
LOCATION:Eglise de Saint-Germain-le-Châtelet\, Saint-Germain-le-Châtelet\, 90110\, France
ATTACH;FMTTYPE=image/png:https://www.andyemler.eu/wp-content/uploads/2021/07/logo-fem-web-carre-n-rose-2021.png
END:VEVENT
END:VCALENDAR