BEGIN:VCALENDAR
VERSION:2.0
PRODID:-//Andy Emler - ECPv6.15.17.1//NONSGML v1.0//EN
CALSCALE:GREGORIAN
METHOD:PUBLISH
X-ORIGINAL-URL:https://www.andyemler.eu
X-WR-CALDESC:Évènements pour Andy Emler
REFRESH-INTERVAL;VALUE=DURATION:PT1H
X-Robots-Tag:noindex
X-PUBLISHED-TTL:PT1H
BEGIN:VTIMEZONE
TZID:UTC
BEGIN:STANDARD
TZOFFSETFROM:+0000
TZOFFSETTO:+0000
TZNAME:UTC
DTSTART:20200101T000000
END:STANDARD
END:VTIMEZONE
BEGIN:VEVENT
DTSTART;TZID=UTC:20210710T203000
DTEND;TZID=UTC:20210710T220000
DTSTAMP:20260422T040509
CREATED:20210506T082433Z
LAST-MODIFIED:20210506T082433Z
UID:7035-1625949000-1625954400@www.andyemler.eu
SUMMARY:Andy Emler MegaOctet au Triton
DESCRIPTION:“ Un rendez-vous imprévu pour des improvisateurs …un pléonasme ?\nUn moment de retrouvailles en ces temps chaotiques qui ne peut que générer de belles surprises\nAndy et ses virtuoses de haut vol décideront le jour même quoi jouer. Ça promet “ \nFrançois Thuillier tuba\nLaurent Dehors saxophone clarinettes cornemuse\nEric Echampard batterie\nFrançois Verly marimba percussions\nClaude Tchamitchian contrebasse\nPhillipe Sellam saxophone\nGuillaume Orti saxophone\nAndy Emler piano-compositions \nInvité : Médéric Collignon trompette
URL:https://www.andyemler.eu/evenements/andy-emler-megaoctet-au-triton/
LOCATION:Le Triton\, 11 bis\, rue du Coq Français\, Les Lilas\, 93260\, France
CATEGORIES:megaoctet
ATTACH;FMTTYPE=image/jpeg:https://www.andyemler.eu/wp-content/uploads/2020/11/megaoctet.jpg
END:VEVENT
END:VCALENDAR