BEGIN:VCALENDAR
VERSION:2.0
PRODID:-//Andy Emler - ECPv6.15.17.1//NONSGML v1.0//EN
CALSCALE:GREGORIAN
METHOD:PUBLISH
X-WR-CALNAME:Andy Emler
X-ORIGINAL-URL:https://www.andyemler.eu
X-WR-CALDESC:Évènements pour Andy Emler
REFRESH-INTERVAL;VALUE=DURATION:PT1H
X-Robots-Tag:noindex
X-PUBLISHED-TTL:PT1H
BEGIN:VTIMEZONE
TZID:UTC
BEGIN:STANDARD
TZOFFSETFROM:+0000
TZOFFSETTO:+0000
TZNAME:UTC
DTSTART:20200101T000000
END:STANDARD
END:VTIMEZONE
BEGIN:VEVENT
DTSTART;TZID=UTC:20210704T110000
DTEND;TZID=UTC:20210704T130000
DTSTAMP:20260422T040128
CREATED:20210416T132348Z
LAST-MODIFIED:20210520T095700Z
UID:6828-1625396400-1625403600@www.andyemler.eu
SUMMARY:Duo Orgue et voix - Andy Emler et Elise Caron
DESCRIPTION:11h | Eglise de Tournehem-sur- la- Hem : Andy Emler (orgue) et Elise Caron (voix)
URL:https://www.andyemler.eu/evenements/duo-orgue-et-voix-andy-emler-et-elise-caron/
LOCATION:Eglise de Tournehem-sur- la- Hem\, 1 Rue de l'Église\, Tournehem-sur-la-Hem\, 62890\, France
CATEGORIES:Duo,Duo Orgue
ATTACH;FMTTYPE=image/png:https://www.andyemler.eu/wp-content/uploads/2021/04/Captura-de-Pantalla-2021-04-16-a-las-15.21.39.png
END:VEVENT
END:VCALENDAR