BEGIN:VCALENDAR
VERSION:2.0
PRODID:-//Andy Emler - ECPv6.15.17.1//NONSGML v1.0//EN
CALSCALE:GREGORIAN
METHOD:PUBLISH
X-WR-CALNAME:Andy Emler
X-ORIGINAL-URL:https://www.andyemler.eu
X-WR-CALDESC:Évènements pour Andy Emler
REFRESH-INTERVAL;VALUE=DURATION:PT1H
X-Robots-Tag:noindex
X-PUBLISHED-TTL:PT1H
BEGIN:VTIMEZONE
TZID:UTC
BEGIN:STANDARD
TZOFFSETFROM:+0000
TZOFFSETTO:+0000
TZNAME:UTC
DTSTART:20200101T000000
END:STANDARD
END:VTIMEZONE
BEGIN:VEVENT
DTSTART;TZID=UTC:20210605T190000
DTEND;TZID=UTC:20210605T210000
DTSTAMP:20260422T053209
CREATED:20210419T084336Z
LAST-MODIFIED:20210506T082547Z
UID:6864-1622919600-1622926800@www.andyemler.eu
SUMMARY:4 x Duo(s) orgue & guests - Laurent Dehors\, Claude Tchamitchian\, Eric Echampard et Elise Caron
DESCRIPTION:Andy Emler 4x duo(s) avec Laurent Dehors (clarinettes\, saxophones)\, Claude Tchamitchian (contrebasse)\, Eric Echampard (batterie) et Elise Caron (chant) \nAndy Emler et la société Hauptwerk amènent un orgue de cathédrale au Triton ! \nL’originalité est déja présente de part la présence de cet instrument mais allons plus loin\, et invitons des solistes de renom à se joinder à l’experience. \nL’orgue d’église ne s’entend pas souvent sur des musiques de “groove” issues du Jazz et du rock\, mais le parcours musical du compositeur multistyle aux influences plurielles nous emmènera pas dans la musique dite “sacrée” mais dans une “sacrée musique”. \nUn système de multidiffusion fait de Haut- parleurs placés en salle et sur scène garanti l’espace sonore d’origine\, le vrai son de l’orgue que l’on peut percevoir dans la nef de la cathédrale choisie. Car en effet l’organiste peut choisir l’orgue qu’il souhaite jouer\, baroque romantique etc… \nCompositions originales\, création et improvisations seront au programme de cette rencontre\, surpise et humour au rendez vous pour\, on le souhaite \, le plus grand plaisir de tous.
URL:https://www.andyemler.eu/evenements/4-x-duos-orgue-guests/
LOCATION:Le Triton\, 11 bis\, rue du Coq Français\, Les Lilas\, 93260\, France
CATEGORIES:Duo,Duo Orgue
ATTACH;FMTTYPE=image/jpeg:https://www.andyemler.eu/wp-content/uploads/2019/10/Logo_du_Triton.jpg
END:VEVENT
END:VCALENDAR