BEGIN:VCALENDAR
VERSION:2.0
PRODID:-//Andy Emler - ECPv6.15.17.1//NONSGML v1.0//EN
CALSCALE:GREGORIAN
METHOD:PUBLISH
X-ORIGINAL-URL:https://www.andyemler.eu
X-WR-CALDESC:Évènements pour Andy Emler
REFRESH-INTERVAL;VALUE=DURATION:PT1H
X-Robots-Tag:noindex
X-PUBLISHED-TTL:PT1H
BEGIN:VTIMEZONE
TZID:UTC
BEGIN:STANDARD
TZOFFSETFROM:+0000
TZOFFSETTO:+0000
TZNAME:UTC
DTSTART:20200101T000000
END:STANDARD
END:VTIMEZONE
BEGIN:VEVENT
DTSTART;VALUE=DATE:20210104
DTEND;VALUE=DATE:20210106
DTSTAMP:20260424T123536
CREATED:20201202T220618Z
LAST-MODIFIED:20201202T220618Z
UID:6725-1609718400-1609891199@www.andyemler.eu
SUMMARY:Enregistrement Trio ETE à La Buissonne
DESCRIPTION:
URL:https://www.andyemler.eu/evenements/enregistrement-trio-ete-a-la-buissonne/
LOCATION:La Buissonne\, 397 Route de la Buissone\, Pernes-les-Fontaines\, 84210\, France
CATEGORIES:Trio ETE
ATTACH;FMTTYPE=image/jpeg:https://www.andyemler.eu/wp-content/uploads/2020/09/WEB_7719.jpg
END:VEVENT
END:VCALENDAR