BEGIN:VCALENDAR
VERSION:2.0
PRODID:-//Andy Emler - ECPv6.15.17.1//NONSGML v1.0//EN
CALSCALE:GREGORIAN
METHOD:PUBLISH
X-ORIGINAL-URL:https://www.andyemler.eu
X-WR-CALDESC:Évènements pour Andy Emler
REFRESH-INTERVAL;VALUE=DURATION:PT1H
X-Robots-Tag:noindex
X-PUBLISHED-TTL:PT1H
BEGIN:VTIMEZONE
TZID:UTC
BEGIN:STANDARD
TZOFFSETFROM:+0000
TZOFFSETTO:+0000
TZNAME:UTC
DTSTART:20190101T000000
END:STANDARD
END:VTIMEZONE
BEGIN:VEVENT
DTSTART;TZID=UTC:20201219T200000
DTEND;TZID=UTC:20201219T230000
DTSTAMP:20260424T141512
CREATED:20200825T232443Z
LAST-MODIFIED:20201202T222530Z
UID:6476-1608408000-1608418800@www.andyemler.eu
SUMMARY:Enregistrement No Rush MegaOctet - DIFFUSÉ EN VOD LE 17/01/2021
DESCRIPTION:
URL:https://www.andyemler.eu/evenements/creation-no-rush-megaoctet/
LOCATION:Le Triton\, 11 bis\, rue du Coq Français\, Les Lilas\, 93260\, France
CATEGORIES:megaoctet
ATTACH;FMTTYPE=image/jpeg:https://www.andyemler.eu/wp-content/uploads/2020/11/CC25052018-DSCF2640-hd-1-scaled.jpg
END:VEVENT
END:VCALENDAR