BEGIN:VCALENDAR
VERSION:2.0
PRODID:-//Andy Emler - ECPv6.15.17.1//NONSGML v1.0//EN
CALSCALE:GREGORIAN
METHOD:PUBLISH
X-WR-CALNAME:Andy Emler
X-ORIGINAL-URL:https://www.andyemler.eu
X-WR-CALDESC:Évènements pour Andy Emler
REFRESH-INTERVAL;VALUE=DURATION:PT1H
X-Robots-Tag:noindex
X-PUBLISHED-TTL:PT1H
BEGIN:VTIMEZONE
TZID:UTC
BEGIN:STANDARD
TZOFFSETFROM:+0000
TZOFFSETTO:+0000
TZNAME:UTC
DTSTART:20190101T000000
END:STANDARD
END:VTIMEZONE
BEGIN:VEVENT
DTSTART;TZID=UTC:20200726T210000
DTEND;TZID=UTC:20200726T210000
DTSTAMP:20260424T220922
CREATED:20200722T154748Z
LAST-MODIFIED:20200722T154748Z
UID:6322-1595797200-1595797200@www.andyemler.eu
SUMMARY:Trio ETE au Vague de jazz
DESCRIPTION:Andy Emler a créé la «Compagnie aime l’air» en 2000 dans le but de structurer et promouvoir ses créations musicales et de ses projets multiples avec ses compagnons de route\, et de les amener vers autrui. Elle vit et respire multiple\, réalise des concerts\, des créations à réaction\, des résidences à notes\, des villégiatures à corps sonores\, des improvisations de sens\, des actions de geste et d’esprit\, toujours tendue vers le plaisir et le partage. \nFinal du Festival avec 3 musiciens emblématiques de Vague de Jazz.\nAndy Emler (piano) – Claude Tchamitchian (contrebasse) – Éric Échampard (batterie)
URL:https://www.andyemler.eu/evenements/trio-ete-au-vague-de-jazz/
LOCATION:vague de jazz\, 724 rue de la Guilbaudière\, LONGEVILLE SUR MER\, 85560
CATEGORIES:Trio ETE
ATTACH;FMTTYPE=image/jpeg:https://www.andyemler.eu/wp-content/uploads/2020/07/trio-ete.jpg
END:VEVENT
END:VCALENDAR