BEGIN:VCALENDAR
VERSION:2.0
PRODID:-//Andy Emler - ECPv6.15.17.1//NONSGML v1.0//EN
CALSCALE:GREGORIAN
METHOD:PUBLISH
X-WR-CALNAME:Andy Emler
X-ORIGINAL-URL:https://www.andyemler.eu
X-WR-CALDESC:Évènements pour Andy Emler
REFRESH-INTERVAL;VALUE=DURATION:PT1H
X-Robots-Tag:noindex
X-PUBLISHED-TTL:PT1H
BEGIN:VTIMEZONE
TZID:UTC
BEGIN:STANDARD
TZOFFSETFROM:+0000
TZOFFSETTO:+0000
TZNAME:UTC
DTSTART:20190101T000000
END:STANDARD
END:VTIMEZONE
BEGIN:VEVENT
DTSTART;TZID=UTC:20200227T200000
DTEND;TZID=UTC:20200227T233000
DTSTAMP:20260425T034250
CREATED:20200203T092047Z
LAST-MODIFIED:20200203T092047Z
UID:5185-1582833600-1582846200@www.andyemler.eu
SUMMARY:Andy Emler & Nima Sarkechik au Triton
DESCRIPTION:Une véritable rencontre de deux univers pour deux pianistes issus d’une même histoire : celle de la musique classique . Un vrai travail en amont pour un vrai duo au service de la musique sous forme de scénario orchestraux permettant à chacun de s’exprimer et d’échanger dans la prise de risque. Écritures et improvisations et donc surprises seront au programme de ce piano croisé. \n 
URL:https://www.andyemler.eu/evenements/andy-emler-nima-sarkechik-au-triton/
LOCATION:Le Triton\, 11 bis\, rue du Coq Français\, Les Lilas\, 93260\, France
CATEGORIES:Création
ATTACH;FMTTYPE=image/jpeg:https://www.andyemler.eu/wp-content/uploads/2020/02/nimaandy.jpg
END:VEVENT
END:VCALENDAR